BEGIN:VCALENDAR
VERSION:2.0
PRODID:GIGPRESS 2.0 WORDPRESS PLUGIN
CALSCALE:GREGORIAN
X-WR-TIMEZONE:Etc/GMT
METHOD:PUBLISH
BEGIN:VTIMEZONE
TZID:GMT
BEGIN:STANDARD
DTSTART:20071028T010000
TZOFFSETTO:+0000
TZOFFSETFROM:+0000
END:STANDARD
END:VTIMEZONE
BEGIN:VEVENT
SUMMARY:Netta Skog at Zone
DESCRIPTION:Notes: Timo Kotipelto &amp\; Netta Skog duo 
LOCATION:Zone\, Ruka\, FI
UID:20260425-3023-jarmo@boardhill.com
URL:https://dragonwhite.com
DTSTART;VALUE=DATE;TZID=GMT:20260425
DTEND;VALUE=DATE;TZID=GMT:20260425
DTSTAMP:20260420T112054Z
END:VEVENT
END:VCALENDAR