BEGIN:VCALENDAR
VERSION:2.0
PRODID:GIGPRESS 2.0 WORDPRESS PLUGIN
CALSCALE:GREGORIAN
X-WR-TIMEZONE:Etc/GMT
METHOD:PUBLISH
BEGIN:VTIMEZONE
TZID:GMT
BEGIN:STANDARD
DTSTART:20071028T010000
TZOFFSETTO:+0000
TZOFFSETFROM:+0000
END:STANDARD
END:VTIMEZONE
BEGIN:VEVENT
SUMMARY:Jussi Selo at John Scott´s Ratina
DESCRIPTION:Notes: Jussi Selo &amp\; Louie So duo 
LOCATION:John Scott´s Ratina\, Tampere\, FI
UID:20260801-3021-jarmo@boardhill.com
URL:https://dragonwhite.com
DTSTART;VALUE=DATE;TZID=GMT:20260801
DTEND;VALUE=DATE;TZID=GMT:20260801
DTSTAMP:20260420T112533Z
END:VEVENT
END:VCALENDAR